BEGIN:VCALENDAR
VERSION:2.0
PRODID:-//ENVIROTECH - ECPv6.15.15//NONSGML v1.0//EN
CALSCALE:GREGORIAN
METHOD:PUBLISH
X-WR-CALNAME:ENVIROTECH
X-ORIGINAL-URL:https://empslc.com
X-WR-CALDESC:Events for ENVIROTECH
REFRESH-INTERVAL;VALUE=DURATION:PT1H
X-Robots-Tag:noindex
X-PUBLISHED-TTL:PT1H
BEGIN:VTIMEZONE
TZID:UTC
BEGIN:STANDARD
TZOFFSETFROM:+0000
TZOFFSETTO:+0000
TZNAME:UTC
DTSTART:20150101T000000
END:STANDARD
END:VTIMEZONE
BEGIN:VEVENT
DTSTART;VALUE=DATE:20170427
DTEND;VALUE=DATE:20170429
DTSTAMP:20260423T114714
CREATED:20170424T113541Z
LAST-MODIFIED:20170424T113541Z
UID:2857-1493251200-1493423999@empslc.com
SUMMARY:Company BBQ
DESCRIPTION:
URL:https://empslc.com/event-calendar/company-bbq
END:VEVENT
BEGIN:VEVENT
DTSTART;VALUE=DATE:20160826
DTEND;VALUE=DATE:20160827
DTSTAMP:20260423T114714
CREATED:20160826T211107Z
LAST-MODIFIED:20160826T211107Z
UID:1497-1472169600-1472255999@empslc.com
SUMMARY:Laboratory Test
DESCRIPTION:Testing equipment
URL:https://empslc.com/event-calendar/laboratory-test
END:VEVENT
END:VCALENDAR